Name | Last modified | Size | Description | |
---|---|---|---|---|
Parent Directory | - | |||
checksrc-out.txt | 13-Oct-2023 03:51 | 3.7K | ||
install-out.txt | 13-Oct-2023 03:51 | 1.0K | ||
buildsrc-out.txt | 13-Oct-2023 03:51 | 838 | ||
checksrc-summary.dcf | 13-Oct-2023 03:51 | 445 | ||
buildsrc-summary.dcf | 13-Oct-2023 03:51 | 441 | ||
install-summary.dcf | 13-Oct-2023 03:51 | 274 | ||