Index of /checkResults/3.17/data-experiment-LATEST/TENxBUSData/raw-results
Name
Last modified
Size
Description
Parent Directory
-
info.dcf
31-Mar-2023 03:51
268
nebbiolo1/
31-Mar-2023 03:51
-