Name | Last modified | Size | Description | |
---|---|---|---|---|
Parent Directory | - | |||
install-summary.dcf | 13-Oct-2023 03:51 | 282 | ||
install-out.txt | 13-Oct-2023 03:51 | 906 | ||
checksrc-summary.dcf | 13-Oct-2023 03:51 | 461 | ||
checksrc-out.txt | 13-Oct-2023 03:51 | 2.7K | ||
buildsrc-summary.dcf | 13-Oct-2023 03:51 | 453 | ||
buildsrc-out.txt | 13-Oct-2023 03:51 | 782 | ||