Back to Build/check report for BioC 3.17 experimental data
ABCDEFGHIJKLMNOPQR[S]TUVWXYZ

This page was generated on 2023-03-23 14:51:36 -0400 (Thu, 23 Mar 2023).

HostnameOSArch (*)R versionInstalled pkgs
nebbiolo1Linux (Ubuntu 22.04.1 LTS)x86_64R Under development (unstable) (2023-03-16 r83996) -- "Unsuffered Consequences" 4536
Click on any hostname to see more info about the system (e.g. compilers)      (*) as reported by 'uname -p', except on Windows and Mac OS X

All results for package STexampleData


To the developers/maintainers of the STexampleData package:
Make sure to use the following settings in order to reproduce any error or warning you see on this page.

raw results

Package 373/417HostnameOS / ArchINSTALLBUILDCHECK
STexampleData 1.7.0  (landing page)
Lukas M. Weber
Snapshot Date: 2023-03-23 07:30:02 -0400 (Thu, 23 Mar 2023)
git_url: https://git.bioconductor.org/packages/STexampleData
git_branch: devel
git_last_commit: 188deb3
git_last_commit_date: 2022-11-01 11:25:56 -0400 (Tue, 01 Nov 2022)
nebbiolo1Linux (Ubuntu 22.04.1 LTS) / x86_64  OK    OK    OK  UNNEEDED, same version is already published