Back to Build/check report for BioC 3.17 experimental data
ABCDEFGHIJKLMNOPQ[R]STUVWXYZ

This page was generated on 2023-06-06 14:51:13 -0400 (Tue, 06 Jun 2023).

HostnameOSArch (*)R versionInstalled pkgs
nebbiolo1Linux (Ubuntu 22.04.2 LTS)x86_644.3.0 RC (2023-04-13 r84269) -- "Already Tomorrow" 4628
Click on any hostname to see more info about the system (e.g. compilers)      (*) as reported by 'uname -p', except on Windows and Mac OS X

All results for package RforProteomics


To the developers/maintainers of the RforProteomics package:
- Use the following Renviron settings to reproduce errors and warnings.
- If 'R CMD check' started to fail recently on the Linux builder(s) over a missing dependency, add the missing dependency to 'Suggests:' in your DESCRIPTION file. See Renviron.bioc for more information.

raw results

Package 315/421HostnameOS / ArchINSTALLBUILDCHECK
RforProteomics 1.38.1  (landing page)
Laurent Gatto
Snapshot Date: 2023-06-06 07:30:02 -0400 (Tue, 06 Jun 2023)
git_url: https://git.bioconductor.org/packages/RforProteomics
git_branch: RELEASE_3_17
git_last_commit: ea2f63a
git_last_commit_date: 2023-05-12 02:03:53 -0400 (Fri, 12 May 2023)
nebbiolo1Linux (Ubuntu 22.04.2 LTS) / x86_64  OK    OK    WARNINGS  UNNEEDED, same version is already published