Back to Build/check report for BioC 3.17 experimental data
ABCDEFGHIJKLMNOPQ[R]STUVWXYZ

This page was generated on 2023-03-16 14:51:34 -0400 (Thu, 16 Mar 2023).

HostnameOSArch (*)R versionInstalled pkgs
nebbiolo1Linux (Ubuntu 22.04.1 LTS)x86_64R Under development (unstable) (2023-01-10 r83596) -- "Unsuffered Consequences" 4540
Click on any hostname to see more info about the system (e.g. compilers)      (*) as reported by 'uname -p', except on Windows and Mac OS X

All results for package RTCGA.RPPA


To the developers/maintainers of the RTCGA.RPPA package:
Make sure to use the following settings in order to reproduce any error or warning you see on this page.

raw results

Package 337/417HostnameOS / ArchINSTALLBUILDCHECK
RTCGA.RPPA 1.27.0  (landing page)
Marcin Kosinski
Snapshot Date: 2023-03-16 07:30:02 -0400 (Thu, 16 Mar 2023)
git_url: https://git.bioconductor.org/packages/RTCGA.RPPA
git_branch: master
git_last_commit: 92d9ba2
git_last_commit_date: 2022-11-01 11:10:06 -0400 (Tue, 01 Nov 2022)
nebbiolo1Linux (Ubuntu 22.04.1 LTS) / x86_64  OK    OK    WARNINGS  UNNEEDED, same version is already published