Index of /checkResults/3.17/data-experiment-LATEST/RITANdata/raw-results
Name
Last modified
Size
Description
Parent Directory
-
info.dcf
07-Jul-2023 03:51
281
nebbiolo1/
07-Jul-2023 03:51
-