Index of /checkResults/3.17/data-experiment-LATEST/MetaGxOvarian/raw-results
Name
Last modified
Size
Description
Parent Directory
-
info.dcf
27-Sep-2023 03:51
303
nebbiolo1/
27-Sep-2023 03:51
-