Name | Last modified | Size | Description | |
---|---|---|---|---|
Parent Directory | - | |||
install-summary.dcf | 13-Oct-2023 03:51 | 261 | ||
install-out.txt | 13-Oct-2023 03:51 | 963 | ||
checksrc-summary.dcf | 13-Oct-2023 03:51 | 417 | ||
checksrc-out.txt | 13-Oct-2023 03:51 | 3.5K | ||
buildsrc-summary.dcf | 13-Oct-2023 03:51 | 420 | ||
buildsrc-out.txt | 13-Oct-2023 03:51 | 873 | ||