Index of /checkResults/3.17/data-experiment-LATEST/Hiiragi2013/raw-results

[ICO]NameLast modifiedSizeDescription

[DIR]Parent Directory  -  
[   ]info.dcf27-Sep-2023 03:51 279  
[DIR]nebbiolo1/27-Sep-2023 03:51 -