Index of /checkResults/3.17/data-experiment-LATEST/HSMMSingleCell/raw-results
Name
Last modified
Size
Description
Parent Directory
-
info.dcf
27-Sep-2023 03:51
289
nebbiolo1/
27-Sep-2023 03:51
-