Back to Build/check report for BioC 3.17 experimental data
ABCDE[F]GHIJKLMNOPQRSTUVWXYZ

This page was generated on 2023-03-16 14:51:35 -0400 (Thu, 16 Mar 2023).

HostnameOSArch (*)R versionInstalled pkgs
nebbiolo1Linux (Ubuntu 22.04.1 LTS)x86_64R Under development (unstable) (2023-01-10 r83596) -- "Unsuffered Consequences" 4540
Click on any hostname to see more info about the system (e.g. compilers)      (*) as reported by 'uname -p', except on Windows and Mac OS X

INSTALL results for FieldEffectCrc on nebbiolo1


To the developers/maintainers of the FieldEffectCrc package:
Make sure to use the following settings in order to reproduce any error or warning you see on this page.

raw results

Package 123/417HostnameOS / ArchINSTALLBUILDCHECK
FieldEffectCrc 1.9.0  (landing page)
Christopher Dampier
Snapshot Date: 2023-03-16 07:30:02 -0400 (Thu, 16 Mar 2023)
git_url: https://git.bioconductor.org/packages/FieldEffectCrc
git_branch: master
git_last_commit: 5723cb7
git_last_commit_date: 2022-11-01 11:23:48 -0400 (Tue, 01 Nov 2022)
nebbiolo1Linux (Ubuntu 22.04.1 LTS) / x86_64  OK    OK    OK  UNNEEDED, same version is already published

Summary

Package: FieldEffectCrc
Version: 1.9.0
Command: /home/biocbuild/bbs-3.17-bioc/R/bin/R CMD INSTALL FieldEffectCrc
StartedAt: 2023-03-16 10:07:14 -0400 (Thu, 16 Mar 2023)
EndedAt: 2023-03-16 10:07:42 -0400 (Thu, 16 Mar 2023)
EllapsedTime: 27.5 seconds
RetCode: 0
Status:   OK  

Command output

##############################################################################
##############################################################################
###
### Running command:
###
###   /home/biocbuild/bbs-3.17-bioc/R/bin/R CMD INSTALL FieldEffectCrc
###
##############################################################################
##############################################################################


* installing to library ‘/home/biocbuild/bbs-3.17-bioc/R/library’
* installing *source* package ‘FieldEffectCrc’ ...
** using staged installation
** R
** inst
** byte-compile and prepare package for lazy loading
** help
*** installing help indices
** building package indices
** installing vignettes
** testing if installed package can be loaded from temporary location
snapshotDate(): 2023-03-13
** testing if installed package can be loaded from final location
snapshotDate(): 2023-03-13
** testing if installed package keeps a record of temporary installation path
* DONE (FieldEffectCrc)