Name | Last modified | Size | Description | |
---|---|---|---|---|
Parent Directory | - | |||
buildsrc-out.txt | 13-Oct-2023 03:51 | 790 | ||
buildsrc-summary.dcf | 13-Oct-2023 03:51 | 429 | ||
checksrc-out.txt | 13-Oct-2023 03:51 | 2.4K | ||
checksrc-summary.dcf | 13-Oct-2023 03:51 | 429 | ||
install-out.txt | 13-Oct-2023 03:51 | 932 | ||
install-summary.dcf | 13-Oct-2023 03:51 | 266 | ||