Back to Build/check report for BioC 3.17 experimental data
AB[C]DEFGHIJKLMNOPQRSTUVWXYZ

This page was generated on 2023-06-01 14:51:12 -0400 (Thu, 01 Jun 2023).

HostnameOSArch (*)R versionInstalled pkgs
nebbiolo1Linux (Ubuntu 22.04.2 LTS)x86_644.3.0 RC (2023-04-13 r84269) -- "Already Tomorrow" 4618
Click on any hostname to see more info about the system (e.g. compilers)      (*) as reported by 'uname -p', except on Windows and Mac OS X

All results for package CardinalWorkflows


To the developers/maintainers of the CardinalWorkflows package:
Use the following Renviron settings to reproduce errors and warnings.

Note: If "R CMD check" recently failed on the Linux builder over a missing dependency, add the missing dependency to "Suggests" in your DESCRIPTION file. See the Renviron.bioc for details.

raw results

Package 46/421HostnameOS / ArchINSTALLBUILDCHECK
CardinalWorkflows 1.32.0  (landing page)
Kylie A. Bemis
Snapshot Date: 2023-06-01 07:30:02 -0400 (Thu, 01 Jun 2023)
git_url: https://git.bioconductor.org/packages/CardinalWorkflows
git_branch: RELEASE_3_17
git_last_commit: ebfa9f4
git_last_commit_date: 2023-04-25 10:37:34 -0400 (Tue, 25 Apr 2023)
nebbiolo1Linux (Ubuntu 22.04.2 LTS) / x86_64  OK    OK    OK  UNNEEDED, same version is already published