Back to Build/check report for BioC 3.17 experimental data
AB[C]DEFGHIJKLMNOPQRSTUVWXYZ

This page was generated on 2023-05-25 14:51:12 -0400 (Thu, 25 May 2023).

HostnameOSArch (*)R versionInstalled pkgs
nebbiolo1Linux (Ubuntu 22.04.2 LTS)x86_644.3.0 RC (2023-04-13 r84269) -- "Already Tomorrow" 4617
Click on any hostname to see more info about the system (e.g. compilers)      (*) as reported by 'uname -p', except on Windows and Mac OS X

All results for package CONFESSdata


To the developers/maintainers of the CONFESSdata package:
Use the following Renviron settings to reproduce errors and warnings.

Note: If "R CMD check" recently failed on the Linux builder over a missing dependency, add the missing dependency to "Suggests" in your DESCRIPTION file. See the Renviron.bioc for details.

raw results

Package 69/421HostnameOS / ArchINSTALLBUILDCHECK
CONFESSdata 1.28.0  (landing page)
Diana LOW
Snapshot Date: 2023-05-25 07:30:02 -0400 (Thu, 25 May 2023)
git_url: https://git.bioconductor.org/packages/CONFESSdata
git_branch: RELEASE_3_17
git_last_commit: 32dfa03
git_last_commit_date: 2023-04-25 10:42:01 -0400 (Tue, 25 Apr 2023)
nebbiolo1Linux (Ubuntu 22.04.2 LTS) / x86_64  OK    OK    OK  UNNEEDED, same version is already published