Index of /checkResults/3.17/books-LATEST/csawBook/raw-results/nebbiolo1
Name
Last modified
Size
Description
Parent Directory
-
buildsrc-out.txt
17-Oct-2023 03:00
843
buildsrc-summary.dcf
17-Oct-2023 03:00
420
install-out.txt
17-Oct-2023 03:00
944
install-summary.dcf
17-Oct-2023 03:00
260