Name | Last modified | Size | Description | |
---|---|---|---|---|
Parent Directory | - | |||
install-summary.dcf | 20-Oct-2023 22:38 | 260 | ||
buildsrc-summary.dcf | 20-Oct-2023 22:38 | 415 | ||
checksrc-summary.dcf | 20-Oct-2023 22:38 | 428 | ||
buildbin-summary.dcf | 20-Oct-2023 22:38 | 506 | ||
buildsrc-out.txt | 20-Oct-2023 22:38 | 863 | ||
install-out.txt | 20-Oct-2023 22:38 | 1.6K | ||
buildbin-out.txt | 20-Oct-2023 22:38 | 1.8K | ||
checksrc-out.txt | 20-Oct-2023 22:38 | 4.1K | ||