Name | Last modified | Size | Description | |
---|---|---|---|---|
Parent Directory | - | |||
install-summary.dcf | 20-Oct-2023 22:38 | 289 | ||
install-out.txt | 20-Oct-2023 22:38 | 1.4K | ||
checksrc-summary.dcf | 20-Oct-2023 22:38 | 484 | ||
checksrc-out.txt | 20-Oct-2023 22:38 | 4.6K | ||
buildsrc-summary.dcf | 20-Oct-2023 22:38 | 459 | ||
buildsrc-out.txt | 20-Oct-2023 22:38 | 1.0K | ||
buildbin-summary.dcf | 20-Oct-2023 22:38 | 590 | ||
buildbin-out.txt | 20-Oct-2023 22:38 | 1.6K | ||