Index of /checkResults/3.17/bioc-mac-arm64-LATEST/trackViewer/raw-results/kjohnson2

[ICO]NameLast modifiedSizeDescription

[DIR]Parent Directory  -  
[   ]install-summary.dcf20-Oct-2023 22:38 278  
[TXT]install-out.txt20-Oct-2023 22:38 1.0K 
[   ]checksrc-summary.dcf20-Oct-2023 22:38 460  
[TXT]checksrc-out.txt20-Oct-2023 22:38 3.7K 
[   ]buildsrc-summary.dcf20-Oct-2023 22:38 441  
[TXT]buildsrc-out.txt20-Oct-2023 22:38 832  
[   ]buildbin-summary.dcf20-Oct-2023 22:38 555  
[TXT]buildbin-out.txt20-Oct-2023 22:38 1.2K