Name | Last modified | Size | Description | |
---|---|---|---|---|
Parent Directory | - | |||
buildbin-out.txt | 20-Oct-2023 22:38 | 1.2K | ||
buildbin-summary.dcf | 20-Oct-2023 22:38 | 572 | ||
buildsrc-out.txt | 20-Oct-2023 22:38 | 884 | ||
buildsrc-summary.dcf | 20-Oct-2023 22:38 | 447 | ||
checksrc-out.txt | 20-Oct-2023 22:38 | 3.4K | ||
checksrc-summary.dcf | 20-Oct-2023 22:38 | 472 | ||
install-out.txt | 20-Oct-2023 22:38 | 1.0K | ||
install-summary.dcf | 20-Oct-2023 22:38 | 283 | ||