Name | Last modified | Size | Description | |
---|---|---|---|---|
Parent Directory | - | |||
buildbin-summary.dcf | 20-Oct-2023 22:38 | 519 | ||
buildbin-out.txt | 20-Oct-2023 22:38 | 1.1K | ||
checksrc-summary.dcf | 20-Oct-2023 22:38 | 436 | ||
checksrc-out.txt | 20-Oct-2023 22:38 | 5.2K | ||
install-summary.dcf | 20-Oct-2023 22:38 | 265 | ||
install-out.txt | 20-Oct-2023 22:38 | 1.0K | ||
buildsrc-summary.dcf | 20-Oct-2023 22:38 | 422 | ||
buildsrc-out.txt | 20-Oct-2023 22:38 | 1.4K | ||