Name | Last modified | Size | Description | |
---|---|---|---|---|
Parent Directory | - | |||
install-summary.dcf | 20-Oct-2023 22:38 | 277 | ||
install-out.txt | 20-Oct-2023 22:38 | 1.0K | ||
checksrc-summary.dcf | 20-Oct-2023 22:38 | 460 | ||
checksrc-out.txt | 20-Oct-2023 22:38 | 4.0K | ||
buildsrc-summary.dcf | 20-Oct-2023 22:38 | 440 | ||
buildsrc-out.txt | 20-Oct-2023 22:38 | 832 | ||
buildbin-summary.dcf | 20-Oct-2023 22:38 | 555 | ||
buildbin-out.txt | 20-Oct-2023 22:38 | 1.2K | ||