Name | Last modified | Size | Description | |
---|---|---|---|---|
Parent Directory | - | |||
install-out.txt | 20-Oct-2023 22:38 | 1.7K | ||
install-summary.dcf | 20-Oct-2023 22:38 | 267 | ||
buildsrc-out.txt | 20-Oct-2023 22:38 | 842 | ||
buildsrc-summary.dcf | 20-Oct-2023 22:38 | 425 | ||
checksrc-out.txt | 20-Oct-2023 22:38 | 3.5K | ||
checksrc-summary.dcf | 20-Oct-2023 22:38 | 440 | ||
buildbin-out.txt | 20-Oct-2023 22:38 | 3.6K | ||
buildbin-summary.dcf | 20-Oct-2023 22:38 | 525 | ||