Name | Last modified | Size | Description | |
---|---|---|---|---|
Parent Directory | - | |||
checksrc-out.txt | 20-Oct-2023 22:38 | 5.3K | ||
buildbin-out.txt | 20-Oct-2023 22:38 | 4.9K | ||
install-out.txt | 20-Oct-2023 22:38 | 2.7K | ||
buildsrc-out.txt | 20-Oct-2023 22:38 | 885 | ||
buildbin-summary.dcf | 20-Oct-2023 22:38 | 527 | ||
checksrc-summary.dcf | 20-Oct-2023 22:38 | 446 | ||
buildsrc-summary.dcf | 20-Oct-2023 22:38 | 426 | ||
install-summary.dcf | 20-Oct-2023 22:38 | 268 | ||