Name | Last modified | Size | Description | |
---|---|---|---|---|
Parent Directory | - | |||
install-summary.dcf | 20-Oct-2023 22:38 | 284 | ||
buildsrc-summary.dcf | 20-Oct-2023 22:38 | 451 | ||
checksrc-summary.dcf | 20-Oct-2023 22:38 | 475 | ||
buildbin-summary.dcf | 20-Oct-2023 22:38 | 577 | ||
buildsrc-out.txt | 20-Oct-2023 22:38 | 911 | ||
install-out.txt | 20-Oct-2023 22:38 | 1.0K | ||
buildbin-out.txt | 20-Oct-2023 22:38 | 1.2K | ||
checksrc-out.txt | 20-Oct-2023 22:38 | 3.6K | ||