Index of /checkResults/3.17/bioc-mac-arm64-LATEST/phenomis/raw-results
Name
Last modified
Size
Description
Parent Directory
-
info.dcf
20-Oct-2023 22:38
282
kjohnson2/
20-Oct-2023 22:38
-