Index of /checkResults/3.17/bioc-mac-arm64-LATEST/muscat/raw-results/kjohnson2
Name
Last modified
Size
Description
Parent Directory
-
buildsrc-out.txt
20-Oct-2023 22:38
1.1K
buildsrc-summary.dcf
20-Oct-2023 22:38
342
install-out.txt
20-Oct-2023 22:38
2.7K
install-summary.dcf
20-Oct-2023 22:38
267