Name | Last modified | Size | Description | |
---|---|---|---|---|
Parent Directory | - | |||
install-summary.dcf | 20-Oct-2023 22:38 | 265 | ||
install-out.txt | 20-Oct-2023 22:38 | 9.5K | ||
checksrc-summary.dcf | 20-Oct-2023 22:38 | 466 | ||
checksrc-out.txt | 20-Oct-2023 22:38 | 4.9K | ||
buildsrc-summary.dcf | 20-Oct-2023 22:38 | 420 | ||
buildsrc-out.txt | 20-Oct-2023 22:38 | 900 | ||
buildbin-summary.dcf | 20-Oct-2023 22:38 | 515 | ||
buildbin-out.txt | 20-Oct-2023 22:38 | 12K | ||