Name | Last modified | Size | Description | |
---|---|---|---|---|
Parent Directory | - | |||
install-summary.dcf | 20-Oct-2023 22:38 | 269 | ||
install-out.txt | 20-Oct-2023 22:38 | 3.3K | ||
checksrc-summary.dcf | 20-Oct-2023 22:38 | 444 | ||
checksrc-out.txt | 20-Oct-2023 22:38 | 3.3K | ||
buildsrc-summary.dcf | 20-Oct-2023 22:38 | 428 | ||
buildsrc-out.txt | 20-Oct-2023 22:38 | 846 | ||
buildbin-summary.dcf | 20-Oct-2023 22:38 | 531 | ||
buildbin-out.txt | 20-Oct-2023 22:38 | 5.5K | ||