Name | Last modified | Size | Description | |
---|---|---|---|---|
Parent Directory | - | |||
install-summary.dcf | 20-Oct-2023 22:38 | 266 | ||
install-out.txt | 20-Oct-2023 22:38 | 1.0K | ||
checksrc-summary.dcf | 20-Oct-2023 22:38 | 438 | ||
checksrc-out.txt | 20-Oct-2023 22:38 | 3.5K | ||
buildsrc-summary.dcf | 20-Oct-2023 22:38 | 423 | ||
buildsrc-out.txt | 20-Oct-2023 22:38 | 874 | ||
buildbin-summary.dcf | 20-Oct-2023 22:38 | 522 | ||
buildbin-out.txt | 20-Oct-2023 22:38 | 1.2K | ||