Name | Last modified | Size | Description | |
---|---|---|---|---|
Parent Directory | - | |||
buildbin-summary.dcf | 20-Oct-2023 22:38 | 519 | ||
buildbin-out.txt | 20-Oct-2023 22:38 | 6.0K | ||
checksrc-summary.dcf | 20-Oct-2023 22:38 | 436 | ||
checksrc-out.txt | 20-Oct-2023 22:38 | 4.0K | ||
buildsrc-summary.dcf | 20-Oct-2023 22:38 | 422 | ||
buildsrc-out.txt | 20-Oct-2023 22:38 | 901 | ||
install-summary.dcf | 20-Oct-2023 22:38 | 266 | ||
install-out.txt | 20-Oct-2023 22:38 | 4.1K | ||