Name | Last modified | Size | Description | |
---|---|---|---|---|
Parent Directory | - | |||
checksrc-out.txt | 20-Oct-2023 22:38 | 6.0K | ||
buildbin-out.txt | 20-Oct-2023 22:38 | 3.9K | ||
install-out.txt | 20-Oct-2023 22:38 | 2.0K | ||
buildsrc-out.txt | 20-Oct-2023 22:38 | 1.3K | ||
buildbin-summary.dcf | 20-Oct-2023 22:38 | 549 | ||
checksrc-summary.dcf | 20-Oct-2023 22:38 | 460 | ||
buildsrc-summary.dcf | 20-Oct-2023 22:38 | 437 | ||
install-summary.dcf | 20-Oct-2023 22:38 | 275 | ||