Name | Last modified | Size | Description | |
---|---|---|---|---|
Parent Directory | - | |||
install-summary.dcf | 20-Oct-2023 22:38 | 289 | ||
buildsrc-summary.dcf | 20-Oct-2023 22:38 | 458 | ||
checksrc-summary.dcf | 20-Oct-2023 22:38 | 484 | ||
buildbin-summary.dcf | 20-Oct-2023 22:38 | 590 | ||
buildsrc-out.txt | 20-Oct-2023 22:38 | 919 | ||
install-out.txt | 20-Oct-2023 22:38 | 1.0K | ||
buildbin-out.txt | 20-Oct-2023 22:38 | 1.2K | ||
checksrc-out.txt | 20-Oct-2023 22:38 | 3.7K | ||