Index of /checkResults/3.17/bioc-mac-arm64-LATEST/metavizr/raw-results/kjohnson2

[ICO]NameLast modifiedSizeDescription

[DIR]Parent Directory  -  
[TXT]buildsrc-out.txt20-Oct-2023 22:38 1.1K 
[   ]buildsrc-summary.dcf20-Oct-2023 22:38 346  
[TXT]install-out.txt20-Oct-2023 22:38 1.2K 
[   ]install-summary.dcf20-Oct-2023 22:38 271