Index of /checkResults/3.17/bioc-mac-arm64-LATEST/gmapR/raw-results/kjohnson2
Name
Last modified
Size
Description
Parent Directory
-
buildsrc-out.txt
20-Oct-2023 22:38
217K
buildsrc-summary.dcf
20-Oct-2023 22:38
340
install-out.txt
20-Oct-2023 22:38
238K
install-summary.dcf
20-Oct-2023 22:38
269