Name | Last modified | Size | Description | |
---|---|---|---|---|
Parent Directory | - | |||
install-out.txt | 20-Oct-2023 22:38 | 9.3K | ||
install-summary.dcf | 20-Oct-2023 22:38 | 273 | ||
buildbin-summary.dcf | 20-Oct-2023 22:38 | 540 | ||
buildsrc-out.txt | 20-Oct-2023 22:38 | 1.1K | ||
buildsrc-summary.dcf | 20-Oct-2023 22:38 | 432 | ||
checksrc-out.txt | 20-Oct-2023 22:38 | 5.1K | ||
checksrc-summary.dcf | 20-Oct-2023 22:38 | 456 | ||
buildbin-out.txt | 20-Oct-2023 22:38 | 13K | ||