Name | Last modified | Size | Description | |
---|---|---|---|---|
Parent Directory | - | |||
buildbin-out.txt | 20-Oct-2023 22:38 | 9.2K | ||
install-out.txt | 20-Oct-2023 22:38 | 7.0K | ||
checksrc-out.txt | 20-Oct-2023 22:38 | 4.8K | ||
buildsrc-out.txt | 20-Oct-2023 22:38 | 857 | ||
buildbin-summary.dcf | 20-Oct-2023 22:38 | 546 | ||
checksrc-summary.dcf | 20-Oct-2023 22:38 | 460 | ||
buildsrc-summary.dcf | 20-Oct-2023 22:38 | 435 | ||
install-summary.dcf | 20-Oct-2023 22:38 | 275 | ||