Name | Last modified | Size | Description | |
---|---|---|---|---|
Parent Directory | - | |||
install-summary.dcf | 20-Oct-2023 22:38 | 275 | ||
buildsrc-summary.dcf | 20-Oct-2023 22:38 | 437 | ||
checksrc-summary.dcf | 20-Oct-2023 22:38 | 457 | ||
buildbin-summary.dcf | 20-Oct-2023 22:38 | 549 | ||
buildsrc-out.txt | 20-Oct-2023 22:38 | 891 | ||
install-out.txt | 20-Oct-2023 22:38 | 1.5K | ||
buildbin-out.txt | 20-Oct-2023 22:38 | 1.7K | ||
checksrc-out.txt | 20-Oct-2023 22:38 | 5.1K | ||