Name | Last modified | Size | Description | |
---|---|---|---|---|
Parent Directory | - | |||
buildbin-summary.dcf | 20-Oct-2023 22:38 | 557 | ||
buildbin-out.txt | 20-Oct-2023 22:38 | 1.2K | ||
install-summary.dcf | 20-Oct-2023 22:38 | 278 | ||
install-out.txt | 20-Oct-2023 22:38 | 1.0K | ||
checksrc-summary.dcf | 20-Oct-2023 22:38 | 462 | ||
checksrc-out.txt | 20-Oct-2023 22:38 | 3.2K | ||
buildsrc-summary.dcf | 20-Oct-2023 22:38 | 440 | ||
buildsrc-out.txt | 20-Oct-2023 22:38 | 835 | ||