Name | Last modified | Size | Description | |
---|---|---|---|---|
Parent Directory | - | |||
checksrc-out.txt | 20-Oct-2023 22:37 | 4.8K | ||
buildbin-summary.dcf | 20-Oct-2023 22:37 | 543 | ||
buildbin-out.txt | 20-Oct-2023 22:37 | 4.7K | ||
install-summary.dcf | 20-Oct-2023 22:37 | 273 | ||
install-out.txt | 20-Oct-2023 22:37 | 2.6K | ||
checksrc-summary.dcf | 20-Oct-2023 22:37 | 452 | ||
buildsrc-summary.dcf | 20-Oct-2023 22:37 | 434 | ||
buildsrc-out.txt | 20-Oct-2023 22:37 | 1.2K | ||