Name | Last modified | Size | Description | |
---|---|---|---|---|
Parent Directory | - | |||
install-summary.dcf | 20-Oct-2023 22:37 | 269 | ||
install-out.txt | 20-Oct-2023 22:37 | 2.5K | ||
checksrc-summary.dcf | 20-Oct-2023 22:37 | 444 | ||
checksrc-out.txt | 20-Oct-2023 22:37 | 3.7K | ||
buildsrc-summary.dcf | 20-Oct-2023 22:37 | 428 | ||
buildsrc-out.txt | 20-Oct-2023 22:37 | 846 | ||
buildbin-summary.dcf | 20-Oct-2023 22:37 | 530 | ||
buildbin-out.txt | 20-Oct-2023 22:37 | 4.7K | ||