Name | Last modified | Size | Description | |
---|---|---|---|---|
Parent Directory | - | |||
install-summary.dcf | 20-Oct-2023 22:37 | 275 | ||
install-out.txt | 20-Oct-2023 22:37 | 1.4K | ||
checksrc-summary.dcf | 20-Oct-2023 22:37 | 461 | ||
checksrc-out.txt | 20-Oct-2023 22:37 | 4.0K | ||
buildsrc-summary.dcf | 20-Oct-2023 22:37 | 436 | ||
buildsrc-out.txt | 20-Oct-2023 22:37 | 828 | ||
buildbin-summary.dcf | 20-Oct-2023 22:37 | 546 | ||
buildbin-out.txt | 20-Oct-2023 22:37 | 1.5K | ||