Name | Last modified | Size | Description | |
---|---|---|---|---|
Parent Directory | - | |||
install-summary.dcf | 20-Oct-2023 22:37 | 267 | ||
install-out.txt | 20-Oct-2023 22:37 | 4.4K | ||
checksrc-summary.dcf | 20-Oct-2023 22:37 | 438 | ||
checksrc-out.txt | 20-Oct-2023 22:37 | 4.8K | ||
buildsrc-summary.dcf | 20-Oct-2023 22:37 | 423 | ||
buildsrc-out.txt | 20-Oct-2023 22:37 | 873 | ||
buildbin-summary.dcf | 20-Oct-2023 22:37 | 520 | ||
buildbin-out.txt | 20-Oct-2023 22:37 | 7.9K | ||