Name | Last modified | Size | Description | |
---|---|---|---|---|
Parent Directory | - | |||
buildsrc-out.txt | 20-Oct-2023 22:37 | 812 | ||
buildsrc-summary.dcf | 20-Oct-2023 22:37 | 424 | ||
checksrc-summary.dcf | 20-Oct-2023 22:37 | 446 | ||
install-out.txt | 20-Oct-2023 22:37 | 2.2K | ||
install-summary.dcf | 20-Oct-2023 22:37 | 267 | ||
buildbin-out.txt | 20-Oct-2023 22:37 | 2.4K | ||
buildbin-summary.dcf | 20-Oct-2023 22:37 | 524 | ||
checksrc-out.txt | 20-Oct-2023 22:37 | 6.6K | ||