Name | Last modified | Size | Description | |
---|---|---|---|---|
Parent Directory | - | |||
checksrc-out.txt | 20-Oct-2023 22:37 | 3.9K | ||
buildbin-out.txt | 20-Oct-2023 22:37 | 1.3K | ||
install-out.txt | 20-Oct-2023 22:37 | 1.1K | ||
buildsrc-out.txt | 20-Oct-2023 22:37 | 1.1K | ||
buildbin-summary.dcf | 20-Oct-2023 22:37 | 522 | ||
checksrc-summary.dcf | 20-Oct-2023 22:37 | 446 | ||
buildsrc-summary.dcf | 20-Oct-2023 22:37 | 425 | ||
install-summary.dcf | 20-Oct-2023 22:37 | 267 | ||