Name | Last modified | Size | Description | |
---|---|---|---|---|
Parent Directory | - | |||
checksrc-summary.dcf | 20-Oct-2023 22:37 | 466 | ||
checksrc-out.txt | 20-Oct-2023 22:37 | 3.1K | ||
buildbin-summary.dcf | 20-Oct-2023 22:37 | 563 | ||
buildbin-out.txt | 20-Oct-2023 22:37 | 1.2K | ||
install-summary.dcf | 20-Oct-2023 22:37 | 280 | ||
install-out.txt | 20-Oct-2023 22:37 | 1.0K | ||
buildsrc-summary.dcf | 20-Oct-2023 22:37 | 441 | ||
buildsrc-out.txt | 20-Oct-2023 22:37 | 839 | ||