Name | Last modified | Size | Description | |
---|---|---|---|---|
Parent Directory | - | |||
checksrc-summary.dcf | 20-Oct-2023 22:38 | 456 | ||
checksrc-out.txt | 20-Oct-2023 22:38 | 3.3K | ||
buildbin-summary.dcf | 20-Oct-2023 22:38 | 548 | ||
buildbin-out.txt | 20-Oct-2023 22:38 | 1.2K | ||
install-summary.dcf | 20-Oct-2023 22:38 | 275 | ||
install-out.txt | 20-Oct-2023 22:38 | 1.0K | ||
buildsrc-summary.dcf | 20-Oct-2023 22:38 | 434 | ||
buildsrc-out.txt | 20-Oct-2023 22:38 | 828 | ||