Index of /checkResults/3.17/bioc-mac-arm64-LATEST/TENxIO/raw-results/kjohnson2

[ICO]NameLast modifiedSizeDescription

[DIR]Parent Directory  -  
[   ]install-summary.dcf20-Oct-2023 22:38 266  
[TXT]install-out.txt20-Oct-2023 22:38 1.0K 
[   ]checksrc-summary.dcf20-Oct-2023 22:38 438  
[TXT]checksrc-out.txt20-Oct-2023 22:38 3.3K 
[   ]buildsrc-summary.dcf20-Oct-2023 22:38 422  
[TXT]buildsrc-out.txt20-Oct-2023 22:38 811  
[   ]buildbin-summary.dcf20-Oct-2023 22:38 521  
[TXT]buildbin-out.txt20-Oct-2023 22:38 1.1K