Name | Last modified | Size | Description | |
---|---|---|---|---|
Parent Directory | - | |||
checksrc-out.txt | 20-Oct-2023 22:38 | 4.2K | ||
buildbin-out.txt | 20-Oct-2023 22:38 | 1.3K | ||
install-out.txt | 20-Oct-2023 22:38 | 1.2K | ||
buildsrc-out.txt | 20-Oct-2023 22:38 | 808 | ||
buildbin-summary.dcf | 20-Oct-2023 22:38 | 518 | ||
checksrc-summary.dcf | 20-Oct-2023 22:38 | 442 | ||
buildsrc-summary.dcf | 20-Oct-2023 22:38 | 421 | ||
install-summary.dcf | 20-Oct-2023 22:38 | 265 | ||