Index of /checkResults/3.17/bioc-mac-arm64-LATEST/TAPseq/raw-results/kjohnson2

[ICO]NameLast modifiedSizeDescription

[DIR]Parent Directory  -  
[TXT]buildbin-out.txt20-Oct-2023 22:38 1.5K 
[   ]buildbin-summary.dcf20-Oct-2023 22:38 525  
[TXT]buildsrc-out.txt20-Oct-2023 22:38 875  
[   ]buildsrc-summary.dcf20-Oct-2023 22:38 425  
[TXT]checksrc-out.txt20-Oct-2023 22:38 4.5K 
[   ]checksrc-summary.dcf20-Oct-2023 22:38 446  
[TXT]install-out.txt20-Oct-2023 22:38 1.3K 
[   ]install-summary.dcf20-Oct-2023 22:38 267